BEGIN:VCALENDAR
VERSION:2.0
PRODID:-//Les Mots ÉPHÉMÈRES - ECPv6.15.20//NONSGML v1.0//EN
CALSCALE:GREGORIAN
METHOD:PUBLISH
X-ORIGINAL-URL:https://lesmotsephemeres.fr
X-WR-CALDESC:Évènements pour Les Mots ÉPHÉMÈRES
REFRESH-INTERVAL;VALUE=DURATION:PT1H
X-Robots-Tag:noindex
X-PUBLISHED-TTL:PT1H
BEGIN:VTIMEZONE
TZID:Europe/Paris
BEGIN:DAYLIGHT
TZOFFSETFROM:+0100
TZOFFSETTO:+0200
TZNAME:CEST
DTSTART:20250330T010000
END:DAYLIGHT
BEGIN:STANDARD
TZOFFSETFROM:+0200
TZOFFSETTO:+0100
TZNAME:CET
DTSTART:20251026T010000
END:STANDARD
BEGIN:DAYLIGHT
TZOFFSETFROM:+0100
TZOFFSETTO:+0200
TZNAME:CEST
DTSTART:20260329T010000
END:DAYLIGHT
BEGIN:STANDARD
TZOFFSETFROM:+0200
TZOFFSETTO:+0100
TZNAME:CET
DTSTART:20261025T010000
END:STANDARD
BEGIN:DAYLIGHT
TZOFFSETFROM:+0100
TZOFFSETTO:+0200
TZNAME:CEST
DTSTART:20270328T010000
END:DAYLIGHT
BEGIN:STANDARD
TZOFFSETFROM:+0200
TZOFFSETTO:+0100
TZNAME:CET
DTSTART:20271031T010000
END:STANDARD
END:VTIMEZONE
BEGIN:VEVENT
DTSTART;TZID=Europe/Paris:20260130T210000
DTEND;TZID=Europe/Paris:20260130T220000
DTSTAMP:20260413T023452
CREATED:20251230T185130Z
LAST-MODIFIED:20260106T181618Z
UID:5367-1769806800-1769810400@lesmotsephemeres.fr
SUMMARY:R I T U E L S - Fabrik & Compagnie
DESCRIPTION:R I T U E L S par la compagnie Fabrik & Compagnie !\nR I T U E L S est un solo de comédienne proposé par la cieFabrik & Compagnie\, porté par Gwen Buhot. Une traversée poétique et sensible\, entre musique et parole\, pensée comme un parcours ritualisé\, un temps suspendu à partager ! \nAvec Rituels\, Gwen Buhot revient sur scène après le succès de son précédent spectacle autour de Frida Kahlo\, accueilli à guichets pleins. Elle propose ici une création plus intime\, ancrée dans une géographie personnelle et collective\, entre Bretagne et Normandie\, entre fleuve et océan ! \nLe spectacle se déploie comme un road-movie littéraire. Il raconte l’Ouest européen\, la Bretagne d’abord\, puis les rives de la Seine\, là où s’entrelacent depuis longtemps les histoires sociales\, humaines et familiales. De la Seine à la mer\, entre deux terres et deux rives\, se dessine une mémoire faite de travailleurs bretons au Havre\, de marins au long cours\, de vies normandes et bretonnes mêlées. Une géographie intime\, racontée avec maturité et justesse ! \nAu cœur de cette traversée\, la poésie tient lieu de feu que l’on allume. Les mots de Xavier Grall\, découverts dans une librairie de Lannion et jamais quittés depuis\, dialoguent avec ceux de Louis Aragon et Jacques Prévert\, ainsi qu’avec les propres écritures improvisées de la comédienne\, nées du bord de mer et du bord de Seine. Ces voix se répondent et font émerger des identités en passage\, bretonnes-normandes\, normandes-bretonnes\, toujours en mouvement ! \nRituels se partage comme une veillée. Un moment simple et profond\, où la parole circule\, où les territoires se mêlent\, où l’on prend le temps d’écouter. Une traversée poétique d’environ 45 minutes\, accessible à partir de 10 ans\, à vivre en famille ou entre amis ! \nAvec Gwen Buhot\, comédienne\, moitié bretonne\, moitié normande\, ce rituel Made in Normandie / Made in Bretagne invite à ralentir\, à ressentir et à se laisser porter par les mots et les paysages intérieurs ! \nVente de billets en ligne
URL:https://lesmotsephemeres.fr/evenement/r-i-t-u-e-l-s-fabrik-compagnie/
CATEGORIES:Théatre
ATTACH;FMTTYPE=image/png:https://lesmotsephemeres.fr/wp-content/uploads/2025/12/1-1.png
END:VEVENT
BEGIN:VEVENT
DTSTART;TZID=Europe/Paris:20260117T210000
DTEND;TZID=Europe/Paris:20260117T223000
DTSTAMP:20260413T023452
CREATED:20240517T183532Z
LAST-MODIFIED:20251222T163729Z
UID:5329-1768683600-1768689000@lesmotsephemeres.fr
SUMMARY:SWITCH - Cie La Ruche Improvise
DESCRIPTION:Le samedi 17 janvier dès 21H\, nous retrouvons avec joie SWITCH\, le spectacle d’improvisation signé la Cie La Ruche\, déjà venu à plusieurs reprises aux Mots Éphémères. À chaque fois\, c’est une nouvelle histoire qui prend vie\, entièrement improvisée à partir des éléments tirés au hasard et des choix du public. L’héroïne de la soirée\, tirée d’un jeu de cartes d’archétypes\, verra son destin basculer… mais dans quel sens ? À vous de décider. Portée par deux comédiennes à l’imagination foisonnante\, cette performance est aussi drôle que surprenante et surtout\, toujours différente ! \nLa Cie La Ruche\, anciennement Jeux D’Rôles\, est une troupe d’improvisation rouennaise qui évolue depuis plus de vingt ans. Elle défend un théâtre de l’instant\, accessible et ancré dans le réel\, mêlant légèreté\, réflexion et spontanéité. À travers des formats courts ou longs\, la compagnie crée des formes artistiques vivantes\, inventives et inclusives\, qui placent l’échange avec le public au cœur du jeu. SWITCH en est un bel exemple : un théâtre qui interroge\, qui émeut et qui amuse\, sans jamais se répéter ! \nTout public\nDurée : 75 min\nTarif unique : 10€ \nRéservation en ligne :\nVente de billets en ligne
URL:https://lesmotsephemeres.fr/evenement/switch-cie-la-ruche-improvise-4/
LOCATION:Les Mots Éphémères\, 105 allée François Mitterrand\, ROUEN\, France
CATEGORIES:Improvisation,Théatre
ATTACH;FMTTYPE=image/jpeg:https://lesmotsephemeres.fr/wp-content/uploads/2024/04/IMG-20231204-WA0001.jpg
END:VEVENT
BEGIN:VEVENT
DTSTART;TZID=Europe/Paris:20260117T140000
DTEND;TZID=Europe/Paris:20260117T170000
DTSTAMP:20260413T023452
CREATED:20251104T153547Z
LAST-MODIFIED:20260106T134128Z
UID:5333-1768658400-1768669200@lesmotsephemeres.fr
SUMMARY:Atelier d’écriture humoristique - JusteSimon
DESCRIPTION:Atelier d’écriture humoristique : Tous styles\, tous niveaux\, tous délires !\nEnvie de faire rire\, un peu\, beaucoup\, à la folie ? Cet atelier est ouvert à toutes et tous\, que vous soyez humoriste en herbe\, auteur·rice confirmé·e ou juste curieux·se de jouer avec les mots et les rires. L’objectif : travailler l’humour sous toutes ses formes (stand-up\, sketch\, chanson\, poème\, absurde\, noir\, satirique…) à partir de vos textes existants ou d’idées à inventer ensemble. \nDébutant·es bienvenu·es\, expérimenté·es aussi : chacun vient avec son style\, sa voix\, et on explore\, on affine\, on rit (et parfois on réécrit). \nAu programme : échauffements créatifs exercices d’écriture ciblés retours constructifs en bienveillance mise en voix ou en scène pour les volontaires Un seul mot d’ordre : laisser parler son sens de l’humour et sa singularité. L’atelier se veut un laboratoire joyeux\, où l’on peut tester\, se planter\, rebondir\, et surtout… faire rire les autres sans se prendre (trop) au sérieux. \nComédien et improvisateur depuis 15 ans\, Simon a d’abord mené sa carrière artistique en parallèle d’un poste à responsabilité dans le commerce\, après un Master 2 en Négociation internationale. En 2018\, il fonde sa propre structure de formation\, proposant des ateliers en communication et management. En parallèle\, il joue avec la compagnie Les Insouciants dès 2020\, crée son premier seul en scène en 2022\, fonde plusieurs formats de spectacles d’improvisation\, et co-écrit une pièce dramatique. En 2024\, il co-écrit également un court métrage sélectionné par la Résidence Création Normande ! \nAtelier de 14H à 17H\nTarif unique : 40€\nVente de billets en ligne
URL:https://lesmotsephemeres.fr/evenement/atelier-decriture-humoristique-justesimon-2/
CATEGORIES:Activités,Stand-Up,Théatre
ATTACH;FMTTYPE=image/png:https://lesmotsephemeres.fr/wp-content/uploads/2025/11/ATELIERDECRJANV.png
END:VEVENT
BEGIN:VEVENT
DTSTART;TZID=Europe/Paris:20260116T210000
DTEND;TZID=Europe/Paris:20260116T223000
DTSTAMP:20260413T023452
CREATED:20250902T143939Z
LAST-MODIFIED:20260106T141700Z
UID:5359-1768597200-1768602600@lesmotsephemeres.fr
SUMMARY:Fantastiques - Les Éphémères : Spectacle d'impro unique par la cie La Ruche
DESCRIPTION:Fantastiques : Les Éphémères de La Ruche Improvise !\nLa compagnie La Ruche Improvise poursuit ses week-ends improvisation aux Mots Éphémères avec un nouveau rendez-vous des Éphémères\, ces soirées uniques où chaque spectacle ne se vit qu’une seule fois ! \nPour ces 4ᵉ Éphémères de la saison\, les 4 Fantastiques se reforment pour une soirée d’improvisation unique et magique ! \nIls et elles ne se connaissent pas\, et ne se seraient probablement jamais rencontrés si un événement majeur ne les avait réunis…À partir de vos suggestions\, ces quatre personnages naîtront tour à tour sous vos yeux et vivront ensemble un moment qui changera à jamais leur destinée ! \nQui sont-ils·elles ?Que vivront-ils·elles ?Où se produira la rencontre ? \nÀ vous d’en décider ! Une chose est sûre : ce sera fantastique ✨ \nUn spectacle entièrement façonné par le public\, où les improvisateur·ices se laissent guider par vos idées pour créer une soirée pleine de magie\, de mystère et de surprises ! \nSoirée tout publicTarif unique : 10€ \nVente de billets en ligne
URL:https://lesmotsephemeres.fr/evenement/les-ephemeres-spectacle-dimpro-unique-par-la-cie-la-ruche/
CATEGORIES:Improvisation,Théatre
ATTACH;FMTTYPE=image/png:https://lesmotsephemeres.fr/wp-content/uploads/2025/09/Copie-de-Copie-de-Copie-de-Copie-de-Copie-de-Copie-de-Copie-de-Copie-de-Copie-de-Multicolore-Moderne-Forme-Atelier-Peinture-Affiche3.png
END:VEVENT
END:VCALENDAR